BEGIN:VCALENDAR
VERSION:2.0
PRODID:-//Squarespace Inc/Squarespace 6//v6//EN
BEGIN:VEVENT
UID:595d3eca17bffc499a9cc2e3@squarespace.com
DTSTAMP:20171104T132055Z
DTSTART:20170919T163000Z
DTEND:20170919T200000Z
SUMMARY:Female Tech Leaders Speaker Night @ Microsoft
GEO:48.178044;11.593985
LOCATION:Microsoft Germany\, 5 Walter-Gropius-Straße\, München\, BY\, 80807
 \, Germany
END:VEVENT
END:VCALENDAR
